BEGIN:VCALENDAR
VERSION:2.0
PRODID:-// - ECPv6.15.20//NONSGML v1.0//EN
CALSCALE:GREGORIAN
METHOD:PUBLISH
X-ORIGINAL-URL:https://burlovsbk.se
X-WR-CALDESC:Händelser för 
REFRESH-INTERVAL;VALUE=DURATION:PT1H
X-Robots-Tag:noindex
X-PUBLISHED-TTL:PT1H
BEGIN:VTIMEZONE
TZID:UTC
BEGIN:STANDARD
TZOFFSETFROM:+0000
TZOFFSETTO:+0000
TZNAME:UTC
DTSTART:20240101T000000
END:STANDARD
END:VTIMEZONE
BEGIN:VEVENT
DTSTART;TZID=UTC:20250501T183000
DTEND;TZID=UTC:20250501T200000
DTSTAMP:20260423T180240
CREATED:20250519T214358Z
LAST-MODIFIED:20250519T214358Z
UID:457-1746124200-1746129600@burlovsbk.se
SUMMARY:Öppen träning kl. 18:30
DESCRIPTION:I kväll tränar vi agility. \nMedlem 20 kr och övriga 40 kr.
URL:https://burlovsbk.se/aktiviteter/oppen-traning-kl-1830-5/
LOCATION:Burlövs Brukshundklubb\, Gamla Segevägen\, Arlöv\, 232 91\, Sweden
CATEGORIES:Torsdagsträning
END:VEVENT
BEGIN:VEVENT
DTSTART;TZID=UTC:20250508T183000
DTEND;TZID=UTC:20250508T200000
DTSTAMP:20260423T180240
CREATED:20250519T214138Z
LAST-MODIFIED:20250529T132456Z
UID:455-1746729000-1746734400@burlovsbk.se
SUMMARY:Öppen träning kl. 18:30 Specialsök
DESCRIPTION:I kväll tränar vi specialsök. \nMedlem 20 kr och övriga 40 kr.
URL:https://burlovsbk.se/aktiviteter/oppen-traning-kl-1830-4/
LOCATION:Burlövs Brukshundklubb\, Gamla Segevägen\, Arlöv\, 232 91\, Sweden
CATEGORIES:Torsdagsträning
END:VEVENT
BEGIN:VEVENT
DTSTART;TZID=UTC:20250515T183000
DTEND;TZID=UTC:20250515T193000
DTSTAMP:20260423T180240
CREATED:20250519T214535Z
LAST-MODIFIED:20250529T132958Z
UID:459-1747333800-1747337400@burlovsbk.se
SUMMARY:Öppen träning kl 18:30 linjeträning
DESCRIPTION:I kväll är det linjeträning. \nMedlem 20 kr och övriga 40 kr. \n 
URL:https://burlovsbk.se/aktiviteter/oppen-traning-kl-1830-6/
LOCATION:Burlövs Brukshundklubb\, Gamla Segevägen\, Arlöv\, 232 91\, Sweden
CATEGORIES:Torsdagsträning
END:VEVENT
BEGIN:VEVENT
DTSTART;TZID=UTC:20250522T183000
DTEND;TZID=UTC:20250522T200000
DTSTAMP:20260423T180240
CREATED:20250519T213025Z
LAST-MODIFIED:20250522T091330Z
UID:446-1747938600-1747944000@burlovsbk.se
SUMMARY:Öppen träning kl. 18:30 Specialsök
DESCRIPTION:I kväll tränar vi specialsök. \nMedlem 20 kr och övriga 40 kr.
URL:https://burlovsbk.se/aktiviteter/oppen-traning-kl-1830/
LOCATION:Burlövs Brukshundklubb\, Gamla Segevägen\, Arlöv\, 232 91\, Sweden
CATEGORIES:Torsdagsträning
END:VEVENT
BEGIN:VEVENT
DTSTART;TZID=UTC:20250529T080000
DTEND;TZID=UTC:20250529T170000
DTSTAMP:20260423T180241
CREATED:20250519T213332Z
LAST-MODIFIED:20250522T091346Z
UID:448-1748505600-1748538000@burlovsbk.se
SUMMARY:Öppen träning kl. 18:30 Rallylydnad
DESCRIPTION:Ikväll tränar vi Rallylydnad. \nMedlem 20 kr och övriga 40 kr.
URL:https://burlovsbk.se/aktiviteter/oppen-traning-kl-1830-2/
LOCATION:Burlövs Brukshundklubb\, Gamla Segevägen\, Arlöv\, 232 91\, Sweden
CATEGORIES:Torsdagsträning
END:VEVENT
END:VCALENDAR